BEGIN:VCALENDAR
VERSION:2.0
PRODID:-//eventon.com NONSGML v1.0//EN
CALSCALE:GREGORIAN
METHOD:PUBLISH
BEGIN:VEVENT
UID:69ec36d50c01b
DTSTAMP:20260425T033653Z
DTSTART:20240312T220000Z
DTEND:20240313T000000Z
LOCATION:Rapscallion Pub 3 Arnold Road
SUMMARY:STURBRIDGE: Sea Glass Windows
DESCRIPTION:Have fun creating this great craft while enjoying a beverage at
  Rapscallion Pub! Ticket includes a beer\,  wine\,  or cocktail of your cho
 ice. This is a freestyle craft. You can make anything you&#8217;d like. We 
 will provide you with a prepped window\,  sea shells\,  sand\,  colored gla
 ss\,  and more! You[..]\nhttps://visitrapscallion.com/event/sturbridge-sea-
 glass-windows-with-art-lab/
URL:https://visitrapscallion.com/event/sturbridge-sea-glass-windows-with-art-lab/
END:VEVENT
END:VCALENDAR