BEGIN:VCALENDAR
VERSION:2.0
PRODID:-//eventon.com NONSGML v1.0//EN
CALSCALE:GREGORIAN
METHOD:PUBLISH
BEGIN:VEVENT
UID:69ed8a5aa7984
DTSTAMP:20260426T034530Z
DTSTART:20241022T220000Z
DTEND:20241023T010000Z
LOCATION:Rapscallion Pub 3 Arnold Road
SUMMARY:STURBRIDGE: 5-Course Beer Dinner
DESCRIPTION:We are excited to be hosting our very first beer dinner at our 
 Sturbridge Pub in our cellar lounge! This very special event is limited to 
 30 people\,  so be sure to sign up soon. Cost is $100/pp and includes all t
 axes and gratuity. On the night of the event\, [..]\nhttps://visitrapscalli
 on.com/event/sturbridge-mug-club-beer-dinner/
URL:https://visitrapscallion.com/event/sturbridge-mug-club-beer-dinner/
END:VEVENT
END:VCALENDAR