BEGIN:VCALENDAR
VERSION:2.0
PRODID:-//eventon.com NONSGML v1.0//EN
CALSCALE:GREGORIAN
METHOD:PUBLISH
BEGIN:VEVENT
UID:69eccf5af335a
DTSTAMP:20260425T142738Z
DTSTART:20260520T233000Z
DTEND:20260521T013000Z
LOCATION:Rapscallion Brick Oven Pizza &amp; Brewery 56 Island St
SUMMARY:Lawrence: Merrimack Valley Music School Jam
DESCRIPTION:Come jam with us and The Merrimack Valley Music School! We’re
  thrilled to welcome this incredible monthly Jam Session into the Lawrence 
 Rapscallion taproom. Whether you’re stepping up to play or just kicking b
 ack to listen\,  this night is open to musicians and music lovers of all le
 vels and backgrounds.[..]\nhttps://visitrapscallion.com/event/lawrence-merr
 imack-valley-music-school-jam/var/ri-3.l-L1
URL:https://visitrapscallion.com/event/lawrence-merrimack-valley-music-school-jam/var/ri-3.l-L1
END:VEVENT
END:VCALENDAR