BEGIN:VCALENDAR
VERSION:2.0
PRODID:-//eventon.com NONSGML v1.0//EN
CALSCALE:GREGORIAN
METHOD:PUBLISH
BEGIN:VEVENT
UID:69eb34ff7762e
DTSTAMP:20260424T091647Z
DTSTART:20260530T230000Z
DTEND:20260531T030000Z
LOCATION:Rapscallion Brick Oven Pizza &amp; Brewery 56 Island St
SUMMARY:Lawrence: Karaoke with DJ Sloth
DESCRIPTION:Grab the mic and take the stage for Rapscallion Lawrence Karaok
 e Night with DJ Sloth! A high-energy evening of great beer\,  great food\, 
  and even better performances. Whether you&#8217;re a seasoned showstopper 
 or just in it for the fun\,  our karaoke night is open to all voices and al
 l vibes.[..]\nhttps://visitrapscallion.com/event/lawrence-karaoke-with-dj-s
 loth/
URL:https://visitrapscallion.com/event/lawrence-karaoke-with-dj-sloth/
END:VEVENT
END:VCALENDAR