BEGIN:VCALENDAR
VERSION:2.0
PRODID:-//eventon.com NONSGML v1.0//EN
CALSCALE:GREGORIAN
METHOD:PUBLISH
BEGIN:VEVENT
UID:69e8406415ad1
DTSTAMP:20260422T032836Z
DTSTART:20260505T210000Z
DTEND:20260506T000000Z
LOCATION:Rapscallion Brick Oven Pizza &amp; Brewery 56 Island St
SUMMARY:Lawrence: Live Music with Rioflow
DESCRIPTION:A Rapscallion favorite returns to the stage. The Carlos Odria 
 Trio—now performing as Rioflow— joins us for Cinco De Mayo in Lawrence
 ! Rioflow is a high-energy fusion band known for blending original composit
 ions with inventive arrangements of jazz standards and Latin American popul
 ar music. Their sound is rhythmic\,  dynamic\,  and deeply rooted[..]\nhttp
 s://visitrapscallion.com/event/lawrence-live-music-with-rioflow-2/
URL:https://visitrapscallion.com/event/lawrence-live-music-with-rioflow-2/
END:VEVENT
END:VCALENDAR