BEGIN:VCALENDAR
VERSION:2.0
PRODID:-//eventon.com NONSGML v1.0//EN
CALSCALE:GREGORIAN
METHOD:PUBLISH
BEGIN:VEVENT
UID:69e8403ce54bc
DTSTAMP:20260422T032756Z
DTSTART:20260426T000000Z
DTEND:20260426T035900Z
LOCATION:Rapscallion Brick Oven Pizza &amp; Brewery 56 Island St
SUMMARY:Lawrence: Comedy with Brad Mastrangelo
DESCRIPTION:Las Vegas comedy legend Brad Mastrangelo will be headlining a n
 ight of comedy at Rapscallion Music Hall in Lawrence! What started as a dar
 e from a group of friends has turned into a pretty successful stand up care
 er. Brad&#8217;s street smart\,  rapid fire\,  brand of comedy has been mak
 ing people[..]\nhttps://visitrapscallion.com/event/lawrence-comedy-with-bra
 d-mastrangelo/
URL:https://visitrapscallion.com/event/lawrence-comedy-with-brad-mastrangelo/
END:VEVENT
END:VCALENDAR