BEGIN:VCALENDAR
VERSION:2.0
PRODID:-//eventon.com NONSGML v1.0//EN
CALSCALE:GREGORIAN
METHOD:PUBLISH
BEGIN:VEVENT
UID:69ecd00bb786f
DTSTAMP:20260425T143035Z
DTSTART:20260517T000000Z
DTEND:20260517T035900Z
LOCATION:Rapscallion Brick Oven Pizza &amp; Brewery 56 Island St
SUMMARY:Lawrence: Level Up Video Game Burlesque
DESCRIPTION:Join us for Level Up: Video Game Burlesque 18+ EVENT From capti
 vating consoles to riveting RPGs\,  embark on a quest through kinky kingdom
 s and fetching with a new nerdlesque show at Rapscallion! These burlesque p
 erformers are about to Level Up! Featuring: Brae The Fallen\,  Them Brülé
 e\,  Gin-ni Gelato\,  Vin U[..]\nhttps://visitrapscallion.com/event/lawrenc
 e-level-up-video-game-burlesque/
URL:https://visitrapscallion.com/event/lawrence-level-up-video-game-burlesque/
END:VEVENT
END:VCALENDAR