BEGIN:VCALENDAR
VERSION:2.0
PRODID:-//eventon.com NONSGML v1.0//EN
CALSCALE:GREGORIAN
METHOD:PUBLISH
BEGIN:VEVENT
UID:69e841381e9c9
DTSTAMP:20260422T033208Z
DTSTART:20260614T220000Z
DTEND:20260615T000000Z
LOCATION:Rapscallion Brick Oven Pizza &amp; Brewery 56 Island St
SUMMARY:Lawrence: The Souvenirs Band
DESCRIPTION:Joining us at Rapscallion Music Hall in Lawrence&#8230; Souveni
 rs Band! A group of seasoned musicians keeping John Prine’s musical legac
 y alive and kicking. The band interpret Prine&#8217;s classic songs with ar
 rangements that bring new energy\,   twists\,  and harmonies &#8211; alway
 s keeping the essence of the timeless stories intact.  Long time[..]\nhttp
 s://visitrapscallion.com/event/lawrence-the-souvenirs-band/
URL:https://visitrapscallion.com/event/lawrence-the-souvenirs-band/
END:VEVENT
END:VCALENDAR